BEGIN:VCALENDAR
VERSION:2.0
PRODID:-//wp-events-plugin.com//6.6.4.4//EN
BEGIN:VEVENT
UID:3669@flmindia.org
DTSTART:20241011T043000Z
DTEND:20241011T073000Z
DTSTAMP:20241001T210645Z
URL:https://www.flmindia.org/events/12th-thanksgiving-service/
SUMMARY:12th Thanksgiving Service
DESCRIPTION:
CATEGORIES:Gospel Meetings
LOCATION:Gospel Assembly Prayer House\, Gospel Assembly Prayer House\, Sank
 araguptam\, Andhra Pradesh\, India
GEO:16.391533;81.852488
X-APPLE-STRUCTURED-LOCATION;VALUE=URI;X-ADDRESS=Gospel Assembly Prayer Hous
 e\, Sankaraguptam\, Andhra Pradesh\, India;X-APPLE-RADIUS=100;X-TITLE=Gosp
 el Assembly Prayer House:geo:16.391533,81.852488
END:VEVENT
END:VCALENDAR