BEGIN:VCALENDAR
VERSION:2.0
PRODID:-//wp-events-plugin.com//6.6.4.4//EN
BEGIN:VEVENT
UID:3620@flmindia.org
DTSTART:20230308T123000Z
DTEND:20230308T123000Z
DTSTAMP:20230309T224800Z
URL:https://www.flmindia.org/events/13th-anniversary-meetings-2/
SUMMARY:13th Anniversary Meetings
DESCRIPTION:
CATEGORIES:Gospel Meetings
LOCATION:Prayer Life Worship Center\, Mamata Hospital Road\, Khammam\, Tela
 ngana\, India
GEO:17.2398055;80.15940090000004
X-APPLE-STRUCTURED-LOCATION;VALUE=URI;X-ADDRESS=Mamata Hospital Road\, Kham
 mam\, Telangana\, India;X-APPLE-RADIUS=100;X-TITLE=Prayer Life Worship Cen
 ter:geo:17.2398055,80.15940090000004
END:VEVENT
END:VCALENDAR