BEGIN:VCALENDAR
VERSION:2.0
PRODID:-//wp-events-plugin.com//6.6.4.4//EN
BEGIN:VEVENT
UID:3676@flmindia.org
DTSTART:20241015T043000Z
DTEND:20241015T113000Z
DTSTAMP:20241001T205700Z
URL:https://www.flmindia.org/events/2nd-daivasevakula-sadassu/
SUMMARY:2nd Daivasevakula Sadassu
DESCRIPTION:
CATEGORIES:Pastors Conference
LOCATION:Church of Grace Gospel Ministries\, Kristhu Krupa Mandiram\, Indir
 amma Colony\, Kachavaram\, India
GEO:17.570015;78.442866
X-APPLE-STRUCTURED-LOCATION;VALUE=URI;X-ADDRESS=Kristhu Krupa Mandiram\, In
 diramma Colony\, Kachavaram\, India;X-APPLE-RADIUS=100;X-TITLE=Church of G
 race Gospel Ministries:geo:17.570015,78.442866
END:VEVENT
END:VCALENDAR