BEGIN:VCALENDAR
VERSION:2.0
PRODID:-//wp-events-plugin.com//6.6.4.4//EN
BEGIN:VEVENT
UID:3616@flmindia.org
DTSTART:20230212T003000Z
DTEND:20230213T163000Z
DTSTAMP:20230210T021550Z
URL:https://www.flmindia.org/events/48th-gospel-meetings-by-fgci-2023-02-1
 2/
SUMMARY:48th Gospel Meetings by FGCI
DESCRIPTION:
CATEGORIES:Gospel Meetings
LOCATION:Bishop Dr. Joshua's Church Premisis\, Bishop Dr. Joshua's Church\,
  Gudivada\, Andhra Pradesh\, India
GEO:16.434446;80.993139
X-APPLE-STRUCTURED-LOCATION;VALUE=URI;X-ADDRESS=Bishop Dr. Joshua's Church\
 , Gudivada\, Andhra Pradesh\, India;X-APPLE-RADIUS=100;X-TITLE=Bishop Dr. 
 Joshua's Church Premisis:geo:16.434446,80.993139
END:VEVENT
END:VCALENDAR