BEGIN:VCALENDAR
VERSION:2.0
PRODID:-//wp-events-plugin.com//6.6.4.4//EN
BEGIN:VEVENT
UID:3625@flmindia.org
DTSTART:20230318T130000Z
DTEND:20230318T160000Z
DTSTAMP:20230317T193220Z
URL:https://www.flmindia.org/events/50th-church-anniversary/
SUMMARY:50th Church Anniversary
DESCRIPTION:
CATEGORIES:Special Meeting
LOCATION:Hebron Worship Center\, Madura Nagar\, Vijayawada\, Andhra Pradesh
 \, 11\, India
GEO:16.493942;80.676712
X-APPLE-STRUCTURED-LOCATION;VALUE=URI;X-ADDRESS=Madura Nagar\, Vijayawada\,
  Andhra Pradesh\, 11\, India;X-APPLE-RADIUS=100;X-TITLE=Hebron Worship Cen
 ter:geo:16.493942,80.676712
END:VEVENT
END:VCALENDAR