BEGIN:VCALENDAR
VERSION:2.0
PRODID:-//wp-events-plugin.com//6.6.4.4//EN
BEGIN:VEVENT
UID:3651@flmindia.org
DTSTART:20240605T130000Z
DTEND:20240607T153000Z
DTSTAMP:20240521T142557Z
URL:https://www.flmindia.org/events/51st-annual-convention-pastor-ford/
SUMMARY:51st Annual Convention by Hebron Worship Center
DESCRIPTION:
CATEGORIES:Spiritual Convention
LOCATION:Hebron Worship Center\, Madura Nagar\, Vijayawada\, Andhra Pradesh
 \, 11\, India
GEO:16.493942;80.676712
X-APPLE-STRUCTURED-LOCATION;VALUE=URI;X-ADDRESS=Madura Nagar\, Vijayawada\,
  Andhra Pradesh\, 11\, India;X-APPLE-RADIUS=100;X-TITLE=Hebron Worship Cen
 ter:geo:16.493942,80.676712
END:VEVENT
END:VCALENDAR