BEGIN:VCALENDAR
VERSION:2.0
PRODID:-//wp-events-plugin.com//6.6.4.4//EN
BEGIN:VEVENT
UID:3534@flmindia.org
DTSTART:20211123T023000Z
DTEND:20211124T143000Z
DTSTAMP:20211118T224017Z
URL:https://www.flmindia.org/events/ablaze-holy-conference-3/
SUMMARY:ABLAZE Holy Conference
DESCRIPTION:
CATEGORIES:Conference,Pastors &amp; Leaders
LOCATION:Bethasta Mahima Mandir\, Chinnarangani Palem Puntha\, Bhimavaram\,
  Andhra Pradesh\, India
GEO:16.543677;81.546132
X-APPLE-STRUCTURED-LOCATION;VALUE=URI;X-ADDRESS=Chinnarangani Palem Puntha\
 , Bhimavaram\, Andhra Pradesh\, India;X-APPLE-RADIUS=100;X-TITLE=Bethasta 
 Mahima Mandir:geo:16.543677,81.546132
END:VEVENT
END:VCALENDAR