BEGIN:VCALENDAR
VERSION:2.0
PRODID:-//wp-events-plugin.com//6.6.4.4//EN
BEGIN:VEVENT
UID:3567@flmindia.org
DTSTART:20221010T023000Z
DTEND:20221010T143000Z
DTSTAMP:20221007T222236Z
URL:https://www.flmindia.org/events/ablaze-holy-conference-4/
SUMMARY:ABLAZE Holy Conference at Karimnagar
DESCRIPTION:
CATEGORIES:Conference
LOCATION:V S Gardens\, Kurikyala\, Karimnagar\, India
GEO:18.54805;79.001635
X-APPLE-STRUCTURED-LOCATION;VALUE=URI;X-ADDRESS=Kurikyala\, Karimnagar\, In
 dia;X-APPLE-RADIUS=100;X-TITLE=V S Gardens:geo:18.54805,79.001635
END:VEVENT
END:VCALENDAR