BEGIN:VCALENDAR
VERSION:2.0
PRODID:-//wp-events-plugin.com//6.6.4.4//EN
BEGIN:VEVENT
UID:3575@flmindia.org
DTSTART:20221116T023000Z
DTEND:20221116T143000Z
DTSTAMP:20221105T000732Z
URL:https://www.flmindia.org/events/ablaze-holy-conference-7/
SUMMARY:Ablaze Holy Conference
DESCRIPTION:
CATEGORIES:Conference
LOCATION:Convention Hall\, 'A ' Convention Hall\, Amalapuram\, Andhra Prade
 sh\, India
GEO:16.57748;82.003146
X-APPLE-STRUCTURED-LOCATION;VALUE=URI;X-ADDRESS='A ' Convention Hall\, Amal
 apuram\, Andhra Pradesh\, India;X-APPLE-RADIUS=100;X-TITLE=Convention Hall
 :geo:16.57748,82.003146
END:VEVENT
END:VCALENDAR