BEGIN:VCALENDAR
VERSION:2.0
PRODID:-//wp-events-plugin.com//6.6.4.4//EN
BEGIN:VEVENT
UID:3570@flmindia.org
DTSTART:20221013T023000Z
DTEND:20221013T143000Z
DTSTAMP:20221007T222208Z
URL:https://www.flmindia.org/events/ablaze-holy-conference-at-warangal-2/
SUMMARY:ABLAZE Holy Conference at Warangal
DESCRIPTION:
CATEGORIES:Conference
END:VEVENT
END:VCALENDAR