BEGIN:VCALENDAR
VERSION:2.0
PRODID:-//wp-events-plugin.com//6.6.4.4//EN
BEGIN:VEVENT
UID:3530@flmindia.org
DTSTART:20211110T023000Z
DTEND:20211110T143000Z
DTSTAMP:20211109T023630Z
URL:https://www.flmindia.org/events/ablaze-holy-conference/
SUMMARY:ABLAZE HOLY CONFERENCE
DESCRIPTION:
CATEGORIES:Special Meeting
LOCATION:Bible Mission\, Sanitorium\, Rajamundry\, Andhra Pradesh\, India
GEO:17.038475;81.79079
X-APPLE-STRUCTURED-LOCATION;VALUE=URI;X-ADDRESS=Sanitorium\, Rajamundry\, A
 ndhra Pradesh\, India;X-APPLE-RADIUS=100;X-TITLE=Bible Mission:geo:17.0384
 75,81.79079
END:VEVENT
END:VCALENDAR