BEGIN:VCALENDAR
VERSION:2.0
PRODID:-//wp-events-plugin.com//6.6.4.4//EN
BEGIN:VEVENT
UID:3637@flmindia.org
DTSTART:20230823T123000Z
DTEND:20230823T153000Z
DTSTAMP:20230821T231518Z
URL:https://www.flmindia.org/events/bible-seminar-graduation-anointing-con
 ference-2-2023-08-23/
SUMMARY:Bible Seminar Graduation & Anointing Conference
DESCRIPTION:
CATEGORIES:Conference,Graduation
LOCATION:Hermon Ministries\, Hermon Mandir\, Nandigama\, Andhra Pradesh\, I
 ndia
GEO:16.770779;80.29096
X-APPLE-STRUCTURED-LOCATION;VALUE=URI;X-ADDRESS=Hermon Mandir\, Nandigama\,
  Andhra Pradesh\, India;X-APPLE-RADIUS=100;X-TITLE=Hermon Ministries:geo:1
 6.770779,80.29096
END:VEVENT
END:VCALENDAR