BEGIN:VCALENDAR
VERSION:2.0
PRODID:-//wp-events-plugin.com//6.6.4.4//EN
BEGIN:VEVENT
UID:3538@flmindia.org
DTSTART:20220114T003000Z
DTEND:20220114T033000Z
DTSTAMP:20220112T194309Z
URL:https://www.flmindia.org/events/breakfast-meet-with-pastors/
SUMMARY:Breakfast meet with pastors
DESCRIPTION:
CATEGORIES:Special Meeting
LOCATION:Zion Worship Center\, HiG-404\, Duplex House\, H.B.Colony\, Bhavan
 apuram Church Center\,\, Vijayawada\, Andhra Pradesh\, India
GEO:16.535648;80.592445
X-APPLE-STRUCTURED-LOCATION;VALUE=URI;X-ADDRESS=HiG-404\, Duplex House\, H.
 B.Colony\, Bhavanapuram Church Center\,\, Vijayawada\, Andhra Pradesh\, In
 dia;X-APPLE-RADIUS=100;X-TITLE=Zion Worship Center:geo:16.535648,80.592445
END:VEVENT
END:VCALENDAR