BEGIN:VCALENDAR
VERSION:2.0
PRODID:-//wp-events-plugin.com//6.6.4.4//EN
BEGIN:VEVENT
UID:3648@flmindia.org
DTSTART:20231009T043000Z
DTEND:20231009T073000Z
DTSTAMP:20231005T012029Z
URL:https://www.flmindia.org/events/family-blessing-prayer-meeting/
SUMMARY:Family Blessing Prayer Meeting
DESCRIPTION:
CATEGORIES:Family
LOCATION:Gate of Heaven Pentecostu\, Opp to Milk Center\, Chintalapudi\, An
 dhra Pradesh\, India
GEO:17.069681;80.987596
X-APPLE-STRUCTURED-LOCATION;VALUE=URI;X-ADDRESS=Opp to Milk Center\, Chinta
 lapudi\, Andhra Pradesh\, India;X-APPLE-RADIUS=100;X-TITLE=Gate of Heaven 
 Pentecostu:geo:17.069681,80.987596
END:VEVENT
END:VCALENDAR