BEGIN:VCALENDAR
VERSION:2.0
PRODID:-//wp-events-plugin.com//6.6.4.4//EN
BEGIN:VEVENT
UID:3527@flmindia.org
DTSTART;VALUE=DATE:20210405
DTEND;VALUE=DATE:20210406
DTSTAMP:20210318T205437Z
URL:https://www.flmindia.org/events/family-fellowship-blessing/
SUMMARY:Family Fellowship Blessing
DESCRIPTION:
CATEGORIES:Family
LOCATION:Hosanna Prayer Church\, Kandrika Digavalli\, Nuziveedu\, AP\, Indi
 a
GEO:16.871087;80.847151
X-APPLE-STRUCTURED-LOCATION;VALUE=URI;X-ADDRESS=Kandrika Digavalli\, Nuzive
 edu\, AP\, India;X-APPLE-RADIUS=100;X-TITLE=Hosanna Prayer Church:geo:16.8
 71087,80.847151
END:VEVENT
END:VCALENDAR