BEGIN:VCALENDAR
VERSION:2.0
PRODID:-//wp-events-plugin.com//6.6.4.4//EN
BEGIN:VEVENT
UID:3533@flmindia.org
DTSTART;VALUE=DATE:20211001
DTEND;VALUE=DATE:20211008
DTSTAMP:20211109T024454Z
URL:https://www.flmindia.org/events/fasting-prayer-festivals/
SUMMARY:Fasting Prayer Festivals
DESCRIPTION:
CATEGORIES:Fasting Prayer
LOCATION:Manna Church\, Johnpaka\, Warangal\, Andhra Pradesh\, India
GEO:17.967682;79.634593
X-APPLE-STRUCTURED-LOCATION;VALUE=URI;X-ADDRESS=Johnpaka\, Warangal\, Andhr
 a Pradesh\, India;X-APPLE-RADIUS=100;X-TITLE=Manna Church:geo:17.967682,79
 .634593
END:VEVENT
END:VCALENDAR