BEGIN:VCALENDAR
VERSION:2.0
PRODID:-//wp-events-plugin.com//6.6.4.4//EN
BEGIN:VEVENT
UID:3675@flmindia.org
DTSTART:20241013T043000Z
DTEND:20241013T073000Z
DTSTAMP:20241001T205902Z
URL:https://www.flmindia.org/events/fasting-prayers-2-2024-10-13/
SUMMARY:Fasting Prayers
DESCRIPTION:
CATEGORIES:Fasting Prayer
LOCATION:IPC Jubilee Church\, Mummidivaram\, Mummidivaram\, Andhra Pradesh\
 , India
GEO:16.6415;82.104296
X-APPLE-STRUCTURED-LOCATION;VALUE=URI;X-ADDRESS=Mummidivaram\, Mummidivaram
 \, Andhra Pradesh\, India;X-APPLE-RADIUS=100;X-TITLE=IPC Jubilee Church:ge
 o:16.6415,82.104296
END:VEVENT
END:VCALENDAR