BEGIN:VCALENDAR
VERSION:2.0
PRODID:-//wp-events-plugin.com//6.6.4.4//EN
BEGIN:VEVENT
UID:3627@flmindia.org
DTSTART:20230524T123000Z
DTEND:20230524T153000Z
DTSTAMP:20230503T025419Z
URL:https://www.flmindia.org/events/festival-of-worship-blessings-of-god-2
 023-05-24/
SUMMARY:Festival of Worship & Blessings of God
DESCRIPTION:
CATEGORIES:Gospel Meetings
LOCATION:Agrampahad\, Agrampahad\, Hanamkonda. Warangal\, India
GEO:18.032842;79.696551
X-APPLE-STRUCTURED-LOCATION;VALUE=URI;X-ADDRESS=Agrampahad\, Hanamkonda. Wa
 rangal\, India;X-APPLE-RADIUS=100;X-TITLE=Agrampahad:geo:18.032842,79.6965
 51
END:VEVENT
END:VCALENDAR