BEGIN:VCALENDAR
VERSION:2.0
PRODID:-//wp-events-plugin.com//6.6.4.4//EN
BEGIN:VEVENT
UID:3577@flmindia.org
DTSTART;VALUE=DATE:20230110
DTEND;VALUE=DATE:20230113
DTSTAMP:20230107T210517Z
URL:https://www.flmindia.org/events/gospel-festivals/
SUMMARY:Gospel Festivals
DESCRIPTION:Please attend the Gospel Meetings and be blessed. The meetings 
 timings are on January 10th\, 11th &amp\; 12th 2023 at 9am\, 2pm\, 5pm.\n\
 n
ATTACH;FMTTYPE=image/jpeg:https://www.flmindia.org/wp-content/uploads/2023
 /01/pastor-Ford-Bangalore.jpeg
CATEGORIES:Gospel Meetings
LOCATION:Apostolic Kings Temple\, Sri Surya Convention Hall\, Mandapeta\, A
 ndhra Pradesh\, India
GEO:16.865294;81.9262
X-APPLE-STRUCTURED-LOCATION;VALUE=URI;X-ADDRESS=Sri Surya Convention Hall\,
  Mandapeta\, Andhra Pradesh\, India;X-APPLE-RADIUS=100;X-TITLE=Apostolic K
 ings Temple:geo:16.865294,81.9262
END:VEVENT
END:VCALENDAR