BEGIN:VCALENDAR
VERSION:2.0
PRODID:-//wp-events-plugin.com//6.6.4.4//EN
BEGIN:VEVENT
UID:3624@flmindia.org
DTSTART:20230310T123000Z
DTEND:20230310T123000Z
DTSTAMP:20230309T225321Z
URL:https://www.flmindia.org/events/gospel-meetings-2023-03-10/
SUMMARY:Gospel Meetings
DESCRIPTION:
CATEGORIES:Gospel Meetings
LOCATION:Donabanda\, Brahmeshawarao gari crusher\, Vijayawada\, Andhra Prad
 esh\, India
GEO:16.506174;80.648015
X-APPLE-STRUCTURED-LOCATION;VALUE=URI;X-ADDRESS=Brahmeshawarao gari crusher
 \, Vijayawada\, Andhra Pradesh\, India;X-APPLE-RADIUS=100;X-TITLE=Donaband
 a:geo:16.506174,80.648015
END:VEVENT
END:VCALENDAR