BEGIN:VCALENDAR
VERSION:2.0
PRODID:-//wp-events-plugin.com//6.6.4.4//EN
BEGIN:VEVENT
UID:3572@flmindia.org
DTSTART;VALUE=DATE:20221111
DTEND;VALUE=DATE:20221112
DTSTAMP:20221105T000110Z
URL:https://www.flmindia.org/events/gospel-meetings-in-secunderabad-2/
SUMMARY:Gospel Meetings in Secunderabad
DESCRIPTION:
CATEGORIES:Gospel Meetings
LOCATION:Church Ground\, Philadelphia Church Ground\, Secunderabad\, Telang
 ana\, India
GEO:17.458121;78.569662
X-APPLE-STRUCTURED-LOCATION;VALUE=URI;X-ADDRESS=Philadelphia Church Ground\
 , Secunderabad\, Telangana\, India;X-APPLE-RADIUS=100;X-TITLE=Church Groun
 d:geo:17.458121,78.569662
END:VEVENT
END:VCALENDAR