BEGIN:VCALENDAR
VERSION:2.0
PRODID:-//wp-events-plugin.com//6.6.4.4//EN
BEGIN:VEVENT
UID:3561@flmindia.org
DTSTART:20220329T130000Z
DTEND:20220531T160000Z
DTSTAMP:20220506T234208Z
URL:https://www.flmindia.org/events/grace-gospel-meetings/
SUMMARY:Grace Gospel Meetings
DESCRIPTION:
CATEGORIES:Gospel Meetings
LOCATION:Sri. Brahmeshwara Rao Crushers\, Main Road\, Donabanda\, India
GEO:15.8338958;79.48444990000007
X-APPLE-STRUCTURED-LOCATION;VALUE=URI;X-ADDRESS=Main Road\, Donabanda\, Ind
 ia;X-APPLE-RADIUS=100;X-TITLE=Sri. Brahmeshwara Rao Crushers:geo:15.833895
 8,79.48444990000007
END:VEVENT
END:VCALENDAR