BEGIN:VCALENDAR
VERSION:2.0
PRODID:-//wp-events-plugin.com//6.6.4.4//EN
BEGIN:VEVENT
UID:3640@flmindia.org
DTSTART:20231005T040000Z
DTEND:20231005T063000Z
DTSTAMP:20231005T003826Z
URL:https://www.flmindia.org/events/healing-service/
SUMMARY:Healing Service
DESCRIPTION:
CATEGORIES:Healing Service
LOCATION:Bethelu Prardhana Mandiramu\, Vakka lanka\, Ambaji Peta\, Andhra P
 radesh\, India
GEO:16.659208;81.951436
X-APPLE-STRUCTURED-LOCATION;VALUE=URI;X-ADDRESS=Vakka lanka\, Ambaji Peta\,
  Andhra Pradesh\, India;X-APPLE-RADIUS=100;X-TITLE=Bethelu Prardhana Mandi
 ramu:geo:16.659208,81.951436
END:VEVENT
END:VCALENDAR