BEGIN:VCALENDAR
VERSION:2.0
PRODID:-//wp-events-plugin.com//6.6.4.4//EN
BEGIN:VEVENT
UID:3532@flmindia.org
DTSTART:20210917T150000Z
DTEND:20210917T163000Z
DTSTAMP:20211109T024149Z
URL:https://www.flmindia.org/events/night-of-prayer/
SUMMARY:Night of Prayer
DESCRIPTION:
CATEGORIES:Special Meeting
END:VEVENT
END:VCALENDAR