BEGIN:VCALENDAR
VERSION:2.0
PRODID:-//wp-events-plugin.com//6.6.4.4//EN
BEGIN:VEVENT
UID:3631@flmindia.org
DTSTART:20230822T043000Z
DTEND:20230822T113000Z
DTSTAMP:20230727T204736Z
URL:https://www.flmindia.org/events/only-one-day-pastors-church-leaders-co
 nference/
SUMMARY:ONLY ONE DAY PASTORS & CHURCH LEADERS CONFERENCE
DESCRIPTION:PRAYER\, POWER\, GLORY &amp\; PROGRESS.\n\nCome\, let's join an
 d build the Kingdom of God.\n\n
CATEGORIES:Conference,Pastors Conference
LOCATION:Grace Gospel Church\, Indiramma Colony\, Kachavaram\, (Ibrahimpatn
 am MD) NTR DT.\, Andhra Pradesh\, Krishna District\, India
GEO:16.623374;80.451599
X-APPLE-STRUCTURED-LOCATION;VALUE=URI;X-ADDRESS=Indiramma Colony\, Kachavar
 am\, (Ibrahimpatnam MD) NTR DT.\, Andhra Pradesh\, Krishna District\, Indi
 a;X-APPLE-RADIUS=100;X-TITLE=Grace Gospel Church:geo:16.623374,80.451599
END:VEVENT
END:VCALENDAR