BEGIN:VCALENDAR
VERSION:2.0
PRODID:-//wp-events-plugin.com//6.6.4.4//EN
BEGIN:VEVENT
UID:3617@flmindia.org
DTSTART:20230213T043000Z
DTEND:20230213T063000Z
DTSTAMP:20230210T023046Z
URL:https://www.flmindia.org/events/ordination-service/
SUMMARY:Ordination Service
DESCRIPTION:
CATEGORIES:Ordination service,Special Service
LOCATION:Manna Church\, Manna Church\, Malleswaram\, Bantumilli Mandal\, An
 dhra Pradesh\, Krishna District\, India
GEO:16.353874;81.270077
X-APPLE-STRUCTURED-LOCATION;VALUE=URI;X-ADDRESS=Manna Church\, Malleswaram\
 , Bantumilli Mandal\, Andhra Pradesh\, Krishna District\, India;X-APPLE-RA
 DIUS=100;X-TITLE=Manna Church:geo:16.353874,81.270077
END:VEVENT
END:VCALENDAR