BEGIN:VCALENDAR
VERSION:2.0
PRODID:-//wp-events-plugin.com//6.6.4.4//EN
BEGIN:VEVENT
UID:3526@flmindia.org
DTSTART;VALUE=DATE:20210406
DTEND;VALUE=DATE:20210408
DTSTAMP:20210318T204511Z
URL:https://www.flmindia.org/events/pastors-and-leaders-family-conference/
SUMMARY:Pastors and Leaders Family Conference
DESCRIPTION:\n\n\n\n\n\n\n\n&nbsp\;
CATEGORIES:Pastors &amp; Leaders
LOCATION:Christ Fellowship Church\, Putrela Road\, Vissannapeta\, AP\, Indi
 a
GEO:16.950496;80.774147
X-APPLE-STRUCTURED-LOCATION;VALUE=URI;X-ADDRESS=Putrela Road\, Vissannapeta
 \, AP\, India;X-APPLE-RADIUS=100;X-TITLE=Christ Fellowship Church:geo:16.9
 50496,80.774147
END:VEVENT
END:VCALENDAR