BEGIN:VCALENDAR
VERSION:2.0
PRODID:-//wp-events-plugin.com//6.6.4.4//EN
BEGIN:VEVENT
UID:3544@flmindia.org
DTSTART:20220216T043000Z
DTEND:20220216T073000Z
DTSTAMP:20220125T225922Z
URL:https://www.flmindia.org/events/pastors-conference-3/
SUMMARY:Pastors Conference
DESCRIPTION:
CATEGORIES:Pastors Conference
LOCATION:Hosanna Pentecostal Faith Church\, Suraram\, Jeedimetla\, Telangan
 a\, India
GEO:17.541211;78.433848
X-APPLE-STRUCTURED-LOCATION;VALUE=URI;X-ADDRESS=Suraram\, Jeedimetla\, Tela
 ngana\, India;X-APPLE-RADIUS=100;X-TITLE=Hosanna Pentecostal Faith Church:
 geo:17.541211,78.433848
END:VEVENT
END:VCALENDAR