BEGIN:VCALENDAR
VERSION:2.0
PRODID:-//wp-events-plugin.com//6.6.4.4//EN
BEGIN:VEVENT
UID:3618@flmindia.org
DTSTART:20230310T043000Z
DTEND:20230310T043000Z
DTSTAMP:20230309T224132Z
URL:https://www.flmindia.org/events/pastors-conference-7/
SUMMARY:Pastor's Conference
DESCRIPTION:
CATEGORIES:Pastors Conference
LOCATION:Bethestha Prardhana Mandhiram\, Budameru Bridge\, Muthyalampadu\, 
 Vijayawada\, Andhra Pradesh\, India
GEO:16.529604;80.638076
X-APPLE-STRUCTURED-LOCATION;VALUE=URI;X-ADDRESS=Budameru Bridge\, Muthyalam
 padu\, Vijayawada\, Andhra Pradesh\, India;X-APPLE-RADIUS=100;X-TITLE=Beth
 estha Prardhana Mandhiram:geo:16.529604,80.638076
END:VEVENT
END:VCALENDAR