BEGIN:VCALENDAR
VERSION:2.0
PRODID:-//wp-events-plugin.com//6.6.4.4//EN
BEGIN:VEVENT
UID:3650@flmindia.org
DTSTART:20231115T033000Z
DTEND:20231115T083000Z
DTSTAMP:20231113T154614Z
URL:https://www.flmindia.org/events/pastors-family-conference-2/
SUMMARY:Pastor's Family Conference
DESCRIPTION:\n\n
CATEGORIES:Pastors Family Conference
LOCATION:Beracha Church\, Beracha Ministries\, Narsipatnam\, Andhra Pradesh
 \, India
GEO:17.666852;82.637364
X-APPLE-STRUCTURED-LOCATION;VALUE=URI;X-ADDRESS=Beracha Ministries\, Narsip
 atnam\, Andhra Pradesh\, India;X-APPLE-RADIUS=100;X-TITLE=Beracha Church:g
 eo:17.666852,82.637364
END:VEVENT
END:VCALENDAR