BEGIN:VCALENDAR
VERSION:2.0
PRODID:-//wp-events-plugin.com//6.6.4.4//EN
BEGIN:VEVENT
UID:3560@flmindia.org
DTSTART;VALUE=DATE:20220510
DTEND;VALUE=DATE:20220513
DTSTAMP:20220506T233721Z
URL:https://www.flmindia.org/events/pastors-family-conference/
SUMMARY:Pastors Family Conference
DESCRIPTION:\n\n
CATEGORIES:Family,Pastors Conference,Pastors Family Conference
LOCATION:Seva Bharath\, Ashirwad Global Learning Centre \, Hyderabad\, Tela
 ngana\, India
GEO:17.429572;78.644764
X-APPLE-STRUCTURED-LOCATION;VALUE=URI;X-ADDRESS=Ashirwad Global Learning Ce
 ntre \, Hyderabad\, Telangana\, India;X-APPLE-RADIUS=100;X-TITLE=Seva Bhar
 ath:geo:17.429572,78.644764
END:VEVENT
END:VCALENDAR