BEGIN:VCALENDAR
VERSION:2.0
PRODID:-//wp-events-plugin.com//6.6.4.4//EN
BEGIN:VEVENT
UID:3630@flmindia.org
DTSTART:20230627T033000Z
DTEND:20230627T113000Z
DTSTAMP:20230608T180414Z
URL:https://www.flmindia.org/events/power-conference-2023/
SUMMARY:Power Conference 2023
DESCRIPTION:
CATEGORIES:Conference
LOCATION:A Convention Hall\, Indupalli Road\, Amalapuram\, Andhra Pradesh\,
  India
GEO:16.574538;81.989641
X-APPLE-STRUCTURED-LOCATION;VALUE=URI;X-ADDRESS=Indupalli Road\, Amalapuram
 \, Andhra Pradesh\, India;X-APPLE-RADIUS=100;X-TITLE=A Convention Hall:geo
 :16.574538,81.989641
END:VEVENT
END:VCALENDAR