BEGIN:VCALENDAR
VERSION:2.0
PRODID:-//wp-events-plugin.com//6.6.4.4//EN
BEGIN:VEVENT
UID:3535@flmindia.org
DTSTART;VALUE=DATE:20220109
DTEND;VALUE=DATE:20220113
DTSTAMP:20211221T163851Z
URL:https://www.flmindia.org/events/power-ministry/
SUMMARY:POWER MINISTRY
DESCRIPTION:\n\n
CATEGORIES:Holy Spirit Festivals,Special Meeting
LOCATION:EL -SHADDAI MINISTRIES\, Near Paatha Bellam Road\, Hwy\, Tanuku\, 
 Andhra Pradesh\, 534211\, West Godavari\, India
GEO:16.759946;81.68888
X-APPLE-STRUCTURED-LOCATION;VALUE=URI;X-ADDRESS=Near Paatha Bellam Road\, H
 wy\, Tanuku\, Andhra Pradesh\, 534211\, West Godavari\, India;X-APPLE-RADI
 US=100;X-TITLE=EL -SHADDAI MINISTRIES:geo:16.759946,81.68888
END:VEVENT
END:VCALENDAR