BEGIN:VCALENDAR
VERSION:2.0
PRODID:-//wp-events-plugin.com//6.6.4.4//EN
BEGIN:VEVENT
UID:3564@flmindia.org
DTSTART:20220928T123000Z
DTEND:20220928T153000Z
DTSTAMP:20220919T194845Z
URL:https://www.flmindia.org/events/pray-for-india-jammu-tawi-2/
SUMMARY:Pray for India @ Jammu Tawi
DESCRIPTION:Please Pray for Revival in Jammu &amp\; Kashmir.\n\n
ATTACH;FMTTYPE=image/jpeg:https://www.flmindia.org/wp-content/uploads/2022
 /09/Pastor-Ford-Jammu-Meeting-1-1.jpg
CATEGORIES:Special Prayer Meeting
LOCATION:Evangelical Church\, Evangelical Church\, Jammu Tawi\, Jammu\, Ind
 ia
GEO:32.705878;74.879845
X-APPLE-STRUCTURED-LOCATION;VALUE=URI;X-ADDRESS=Evangelical Church\, Jammu 
 Tawi\, Jammu\, India;X-APPLE-RADIUS=100;X-TITLE=Evangelical Church:geo:32.
 705878,74.879845
END:VEVENT
END:VCALENDAR