BEGIN:VCALENDAR
VERSION:2.0
PRODID:-//wp-events-plugin.com//6.6.4.4//EN
BEGIN:VEVENT
UID:3660@flmindia.org
DTSTART:20241006T050000Z
DTEND:20241006T073000Z
DTSTAMP:20241001T210142Z
URL:https://www.flmindia.org/events/prayer-fasting-2024-10-06/
SUMMARY:Prayer & Fasting
DESCRIPTION:
CATEGORIES:Family,Fasting Prayer
LOCATION:Beracha Full Gospel Church\, #12613\, 3rd Cross\, 8th Main\, Mohan
  Kumar Nagar\, Yeshwantpur\, Bangalore\, Karnataka\, 560022\, India
GEO:13.030747;77.550232
X-APPLE-STRUCTURED-LOCATION;VALUE=URI;X-ADDRESS=#12613\, 3rd Cross\, 8th Ma
 in\, Mohan Kumar Nagar\, Yeshwantpur\, Bangalore\, Karnataka\, 560022\, In
 dia;X-APPLE-RADIUS=100;X-TITLE=Beracha Full Gospel Church:geo:13.030747,77
 .550232
END:VEVENT
END:VCALENDAR