BEGIN:VCALENDAR
VERSION:2.0
PRODID:-//wp-events-plugin.com//6.6.4.4//EN
BEGIN:VEVENT
UID:3537@flmindia.org
DTSTART:20220113T120000Z
DTEND:20220113T160000Z
DTSTAMP:20220111T202521Z
URL:https://www.flmindia.org/events/prayer-meeting-by-zion-worship-center/
SUMMARY:Prayer Meeting by Zion Worship Center
DESCRIPTION:
CATEGORIES:Gospel Meetings
LOCATION:Zion Worship Center\, HiG-404\, Duplex House\, H.B.Colony\, Bhavan
 apuram Church Center\,\, Vijayawada\, Andhra Pradesh\, India
GEO:16.535648;80.592445
X-APPLE-STRUCTURED-LOCATION;VALUE=URI;X-ADDRESS=HiG-404\, Duplex House\, H.
 B.Colony\, Bhavanapuram Church Center\,\, Vijayawada\, Andhra Pradesh\, In
 dia;X-APPLE-RADIUS=100;X-TITLE=Zion Worship Center:geo:16.535648,80.592445
END:VEVENT
END:VCALENDAR