BEGIN:VCALENDAR
VERSION:2.0
PRODID:-//wp-events-plugin.com//6.6.4.4//EN
BEGIN:VEVENT
UID:3528@flmindia.org
DTSTART:20210405T133000Z
DTEND:20210405T153000Z
DTSTAMP:20210318T205207Z
URL:https://www.flmindia.org/events/prayer-warriors-meeting/
SUMMARY:Prayer Warriors Meeting
DESCRIPTION:
CATEGORIES:Special Meeting
LOCATION:Hosanna Prayer Church\, Kandrika Digavalli\, Nuziveedu\, AP\, Indi
 a
GEO:16.871087;80.847151
X-APPLE-STRUCTURED-LOCATION;VALUE=URI;X-ADDRESS=Kandrika Digavalli\, Nuzive
 edu\, AP\, India;X-APPLE-RADIUS=100;X-TITLE=Hosanna Prayer Church:geo:16.8
 71087,80.847151
END:VEVENT
END:VCALENDAR