BEGIN:VCALENDAR
VERSION:2.0
PRODID:-//wp-events-plugin.com//6.6.4.4//EN
BEGIN:VEVENT
UID:3649@flmindia.org
DTSTART:20231114T123000Z
DTEND:20231114T153000Z
DTSTAMP:20231113T153821Z
URL:https://www.flmindia.org/events/revival-meeting/
SUMMARY:Revival Meeting
DESCRIPTION:
CATEGORIES:Gospel Meetings,Revival Meeting
LOCATION:Christ Fellowship Church\, BC Colony\, Narshipatnam\, Andhra Prade
 sh\, India
GEO:17.662983;82.626397
X-APPLE-STRUCTURED-LOCATION;VALUE=URI;X-ADDRESS=BC Colony\, Narshipatnam\, 
 Andhra Pradesh\, India;X-APPLE-RADIUS=100;X-TITLE=Christ Fellowship Church
 :geo:17.662983,82.626397
END:VEVENT
END:VCALENDAR