BEGIN:VCALENDAR
VERSION:2.0
PRODID:-//wp-events-plugin.com//6.6.4.4//EN
BEGIN:VEVENT
UID:2691@flmindia.org
DTSTART:20200308T043000Z
DTEND:20200308T070000Z
DTSTAMP:20200306T213628Z
URL:https://www.flmindia.org/events/siloam-worship-service/
SUMMARY:Siloam Worship Service
DESCRIPTION:
ATTACH;FMTTYPE=image/jpeg:https://www.flmindia.org/wp-content/uploads/2020
 /03/Siloam-Worship-Service-_-Pastor-Ford.jpeg
CATEGORIES:Special Worship
LOCATION:Siloam Worship Center\, Behind SLS School\, Vijaya Colony\, Suryap
 et\, Andhra Pradesh\, India
GEO:17.127716;79.6376212
X-APPLE-STRUCTURED-LOCATION;VALUE=URI;X-ADDRESS=Behind SLS School\, Vijaya 
 Colony\, Suryapet\, Andhra Pradesh\, India;X-APPLE-RADIUS=100;X-TITLE=Silo
 am Worship Center:geo:17.127716,79.6376212
END:VEVENT
END:VCALENDAR