BEGIN:VCALENDAR
VERSION:2.0
PRODID:-//wp-events-plugin.com//6.6.4.4//EN
BEGIN:VEVENT
UID:3576@flmindia.org
DTSTART;VALUE=DATE:20221213
DTEND;VALUE=DATE:20221214
DTSTAMP:20221205T155358Z
URL:https://www.flmindia.org/events/south-chennai-full-gospel-ministries/
SUMMARY:South Chennai Full Gospel Ministries
DESCRIPTION:
CATEGORIES:Gospel Meetings
LOCATION:South Chennai Full Gospel Ministries Fellowship\, 100\, Madambakka
 m Main Road\, Maruti Nagar\, Madambakkam\, Chennai\, 600126\, India
GEO:12.905093;80.15899
X-APPLE-STRUCTURED-LOCATION;VALUE=URI;X-ADDRESS=100\, Madambakkam Main Road
 \, Maruti Nagar\, Madambakkam\, Chennai\, 600126\, India;X-APPLE-RADIUS=10
 0;X-TITLE=South Chennai Full Gospel Ministries Fellowship:geo:12.905093,80
 .15899
END:VEVENT
END:VCALENDAR