BEGIN:VCALENDAR
VERSION:2.0
PRODID:-//wp-events-plugin.com//6.6.4.4//EN
BEGIN:VEVENT
UID:3540@flmindia.org
DTSTART:20220116T043000Z
DTEND:20220116T073000Z
DTSTAMP:20220114T175945Z
URL:https://www.flmindia.org/events/special-meeting-2/
SUMMARY:Special Meeting
DESCRIPTION:
CATEGORIES:Special Meeting
LOCATION:Usha Manson\, 3rd Floor\, Brahmam gari Veedi\, Next to Kalyan Mand
 ir\, Guntur\, Andhra Pradesh\, India
GEO:16.309106;80.433011
X-APPLE-STRUCTURED-LOCATION;VALUE=URI;X-ADDRESS=3rd Floor\, Brahmam gari Ve
 edi\, Next to Kalyan Mandir\, Guntur\, Andhra Pradesh\, India;X-APPLE-RADI
 US=100;X-TITLE=Usha Manson:geo:16.309106,80.433011
END:VEVENT
END:VCALENDAR