BEGIN:VCALENDAR
VERSION:2.0
PRODID:-//wp-events-plugin.com//6.6.4.4//EN
BEGIN:VEVENT
UID:3647@flmindia.org
DTSTART:20231008T113000Z
DTEND:20231008T153000Z
DTSTAMP:20231005T011758Z
URL:https://www.flmindia.org/events/youth-worship/
SUMMARY:Youth Worship
DESCRIPTION:
CATEGORIES:Youth Meeting
LOCATION:Christ Fellowship Church\, Beside Srilkeha Power Print\, Nehru Str
 eet\, Seetha Rama Puram\, Vijayawada\, India
GEO:16.506174;80.648015
X-APPLE-STRUCTURED-LOCATION;VALUE=URI;X-ADDRESS=Beside Srilkeha Power Print
 \, Nehru Street\, Seetha Rama Puram\, Vijayawada\, India;X-APPLE-RADIUS=10
 0;X-TITLE=Christ Fellowship Church:geo:16.506174,80.648015
END:VEVENT
END:VCALENDAR