BEGIN:VCALENDAR
VERSION:2.0
PRODID:-//wp-events-plugin.com//6.6.4.4//EN
BEGIN:VEVENT
UID:2693@flmindia.org
DTSTART:20200928T133000Z
DTEND:20200928T160000Z
DTSTAMP:20201022T155244Z
URL:https://www.flmindia.org/events/zion-festivals-2/
SUMMARY:Zion Festivals
DESCRIPTION:
CATEGORIES:Holy Spirit Festivals,Special Meeting
END:VEVENT
END:VCALENDAR