BEGIN:VCALENDAR
VERSION:2.0
PRODID:-//wp-events-plugin.com//6.6.4.4//EN
BEGIN:VEVENT
UID:2692@flmindia.org
DTSTART:20200927T133000Z
DTEND:20201001T160000Z
DTSTAMP:20201022T154909Z
URL:https://www.flmindia.org/events/zion-festivals/
SUMMARY:Zion Festivals
DESCRIPTION:
CATEGORIES:Holy Spirit Festivals,Special Meeting
END:VEVENT
END:VCALENDAR